BEGIN:VCALENDAR
VERSION:2.0
PRODID:-//eventon.com NONSGML v1.0//EN
CALSCALE:GREGORIAN
METHOD:PUBLISH
BEGIN:VEVENT
UID:69e89dc2f2f4c
DTSTAMP:20260422T100658Z
DTSTART:20240710T050000Z
DTEND:20240710T095900Z
LOCATION:Kīlauea Visitor Center Auditorium
SUMMARY:After Dark in the Park - July 9\,  2024
DESCRIPTION:Nā Waʻa: The Art of Oceanic Canoe Building Peoples of Oceania
  constructed\,  paddled\,  and sailed canoes specifically designed for the 
 open ocean. This amazing craftmanship enabled them to discover and inhabit 
 some of the most isolated islands on Earth including Hawai‘i. Join Dr. Do
 ug Herman\,  executive director of Pacific Worlds[..]\nhttps://www.fhvnp.or
 g/events/after-dark-in-the-park-july-9-2024/
URL:https://www.fhvnp.org/events/after-dark-in-the-park-july-9-2024/
END:VEVENT
END:VCALENDAR