BEGIN:VCALENDAR
VERSION:2.0
PRODID:-//eventon.com NONSGML v1.0//EN
CALSCALE:GREGORIAN
METHOD:PUBLISH
BEGIN:VEVENT
UID:69e737bc4c23d
DTSTAMP:20260421T083924Z
DTSTART:20170923T180000Z
DTEND:20170923T210000Z
LOCATION:Hawaiʻi Volcanoes National Park
SUMMARY:Kilauea Under the Stars - Stargazing and Picnic Gourmet Dinner
DESCRIPTION:The Friends of Hawai&#8217;i Volcanoes National Park is offerin
 g this special institute on a volcano\,  under the stars. A gourmet picnic 
 dinner (tailgate style) \,  followed by a presentation about the celebratio
 n of &#8220;Dark Skies&#8221;\,  the geographical area of Keanakāko‘i Cr
 ater and Kīlauea Caldera. Tickets are $50.00 for non-members and[..]\nhttp
 s://www.fhvnp.org/events/kilauea-stars-stargazing-picnic-gourmet-dinner/
URL:https://www.fhvnp.org/events/kilauea-stars-stargazing-picnic-gourmet-dinner/
END:VEVENT
END:VCALENDAR